BEGIN:VCALENDAR
VERSION:2.0
PRODID:-//wp-events-plugin.com//7.2.3.1//EN
TZID:America/Los_Angeles
X-WR-TIMEZONE:America/Los_Angeles
BEGIN:VEVENT
UID:178@sjpt.org
DTSTART;TZID=America/Los_Angeles:20220701T100000
DTEND;TZID=America/Los_Angeles:20220701T140000
DTSTAMP:20220625T190110Z
URL:https://sjpt.org/events/peach-preserve-volunteer-work-day/
SUMMARY:Volunteer Restoration Day at the Peach Preserve
DESCRIPTION:Help us care for and nurture a small shoreline demonstration ga
 rden that was installed in 2018 at the Peach Preserve on Guemes Island! 
ATTACH;FMTTYPE=image/jpeg:https://sjpt.org/wp-content/uploads/Patty-Rose-P
 each-Preserve-tiny-square.jpg
CATEGORIES:Public / Member Events
LOCATION:Peach Preserve\, Peach Preserve\, Guemes Island\, WA\, United Stat
 es
X-APPLE-STRUCTURED-LOCATION;VALUE=URI;X-ADDRESS=Peach Preserve\, Guemes Isl
 and\, WA\, United States;X-APPLE-RADIUS=100;X-TITLE=Peach Preserve:geo:0,0
END:VEVENT
BEGIN:VTIMEZONE
TZID:America/Los_Angeles
X-LIC-LOCATION:America/Los_Angeles
BEGIN:DAYLIGHT
DTSTART:20220313T030000
TZOFFSETFROM:-0800
TZOFFSETTO:-0700
TZNAME:PDT
END:DAYLIGHT
END:VTIMEZONE
END:VCALENDAR