BEGIN:VCALENDAR
VERSION:2.0
PRODID:-//wp-events-plugin.com//7.2.3.1//EN
TZID:America/Los_Angeles
X-WR-TIMEZONE:America/Los_Angeles
BEGIN:VEVENT
UID:128@sjpt.org
DTSTART;TZID=America/Los_Angeles:20220415T073000
DTEND;TZID=America/Los_Angeles:20220415T093000
DTSTAMP:20220308T205130Z
URL:https://sjpt.org/events/2022-bluebird-blitz-i/
SUMMARY:2022 Bluebird Blitz I
DESCRIPTION:Our first Bluebird Blitz of the year will see our volunteer com
 munity scientists meet at the Red Mill Farm Preserve at 7:30 am. From ther
 e\, meet the rest of the data collectors\, get assigned an area to record 
 Bluebird sightings\, and\, most importantly\, have fun looking for one of 
 the Preservation Trust's favorite birds!
ATTACH;FMTTYPE=image/jpeg:https://sjpt.org/wp-content/uploads/Nancy-Clifto
 n-3-1-1-200x200-1.jpg
CATEGORIES:Public / Member Events
LOCATION:Red Mill Farm\, 290 Valley Farms Road\, Friday Harbor\, WA\, 98250
 \, United States
GEO:48.521408;-123.075173
X-APPLE-STRUCTURED-LOCATION;VALUE=URI;X-ADDRESS=290 Valley Farms Road\, Fri
 day Harbor\, WA\, 98250\, United States;X-APPLE-RADIUS=100;X-TITLE=Red Mil
 l Farm:geo:48.521408,-123.075173
END:VEVENT
BEGIN:VTIMEZONE
TZID:America/Los_Angeles
X-LIC-LOCATION:America/Los_Angeles
BEGIN:DAYLIGHT
DTSTART:20220313T030000
TZOFFSETFROM:-0800
TZOFFSETTO:-0700
TZNAME:PDT
END:DAYLIGHT
END:VTIMEZONE
END:VCALENDAR